BEGIN:VCALENDAR
VERSION:2.0
PRODID:-//ChamberMaster//Event Calendar 2.0//EN
METHOD:PUBLISH
X-PUBLISHED-TTL:P3D
REFRESH-INTERVAL:P3D
CALSCALE:GREGORIAN
BEGIN:VEVENT
DTSTART:20240620T220000Z
DTEND:20240620T233000Z
X-MICROSOFT-CDO-ALLDAYEVENT:FALSE
SUMMARY:06.20.24 Business After Hours Sponsored by 3310 Connections
DESCRIPTION:Join us for our monthly evening networking event\, sponsored by 3310 Connections! Meet Rani Burke\, the founder of 3310 Connections. She is an expert in creating events for your business\, or attending events on your behalf to promote what you do. This is a great resource\, especially for those in service-based industries that may not be able to typically step away from their shop! \n\n\n\nThis event is open to our sponsor\, their employees and guests\, Chamber members and prospective members. Attendees can expect a short sponsor presentation\, food/beverages\, an update on Chamber activities\, door prizes\, and making plenty of new connections. See you there!\n\n\n\nPlease note: This event is being photographed and/or videotaped and your image may be used in connection with the advertising and promotion of the Abilene Chamber of Commerce.
X-ALT-DESC;FMTTYPE=text/html:<span style="font-family:arial\;"><span style="font-size: 14px\;">Join us for our monthly evening networking event\, sponsored by 3310 Connections! Meet Rani Burke\, the founder of 3310 Connections. She is an expert in creating events for your business\, or attending events on your behalf to promote what you do. This is a great resource\, especially for those in service-based industries that may not be able to typically step away from their shop!&nbsp\;<br />\n<br />\nThis event is open to our sponsor\, their employees and guests\, Chamber members and prospective members. Attendees can expect&nbsp\;a short sponsor presentation\, food/beverages\, an update on Chamber activities\, door prizes\, and making plenty of new connections. See you there!</span></span><br />\n<br />\n<span style="background-image: initial\; background-position: initial\; background-size: initial\; background-repeat: initial\; background-attachment: initial\; background-origin: initial\; background-clip: initial\;"><span style="font-family: arial\, sans-serif\;"><span style="font-size: 7pt\;">Please note: This event is being photographed and/or videotaped and your image may be used in connection with the advertising and promotion of the Abilene Chamber of Commerce.</span></span></span>
LOCATION:3310 Connections The Patio at Elm Creek
UID:e.3433.5169
SEQUENCE:3
DTSTAMP:20260422T112545Z
URL:https://business.abileneworks.com/events/details/06-20-24-business-after-hours-sponsored-by-3310-connections-5169
END:VEVENT

END:VCALENDAR
