BEGIN:VCALENDAR
VERSION:2.0
PRODID:-//ChamberMaster//Event Calendar 2.0//EN
METHOD:PUBLISH
X-PUBLISHED-TTL:P3D
REFRESH-INTERVAL:P3D
CALSCALE:GREGORIAN
BEGIN:VEVENT
DTSTART:20250619T163000Z
DTEND:20250619T180000Z
X-MICROSOFT-CDO-ALLDAYEVENT:FALSE
SUMMARY:06.19.25 ABIChat Luncheon: Abilene's Unhoused - Insights from Community Leaders\, sponsored by Goodwill - West Texas
DESCRIPTION:Join AYP for ABICHAT! A luncheon series that occurs once a quarter for Abilene Young Professionals. Hear from community leaders in an intimate setting as they share their stories of how they made their mark and how others can do the same. Tickets are available to 60 young professionals and are first come\, first served and are nonrefundable.\n\n\n\nThis quarter's luncheon is sponsored by Goodwill - West Texas. \n\n\n\nLUNCH: Please email with any dietary restrictions \n\nQuestions? Email cameron@abilenechamber.com
X-ALT-DESC;FMTTYPE=text/html:<span style="background:white\;"><span style="color:#1D2129\;"><span style="font-size:10.5pt\;">Join AYP for ABICHAT! A luncheon series that occurs once a quarter for Abilene Young Professionals. Hear from community leaders in an intimate setting as they share their stories of how they made their mark and how others can do the same. Tickets are available to 60 young professionals and are first come\, first served and are nonrefundable.<br />\n<br />\nThis quarter&#39\;s luncheon is sponsored by Goodwill - West Texas.&nbsp\;</span></span></span><br style="font-variant-ligatures:normal\;font-variant-caps:normal\;orphans:2\;text-align:start\;widows:2\;-webkit-text-stroke-width:0px\;text-decoration-thickness:initial\;text-decoration-style:initial\;word-spacing:0px\;" />\n<br style="font-variant-ligatures:normal\;font-variant-caps:normal\;orphans:2\;text-align:start\;widows:2\;-webkit-text-stroke-width:0px\;text-decoration-thickness:initial\;text-decoration-style:initial\;white-space:pre-wrap\;word-spacing:0px\;" />\n<span style="background:white\;"><span style="color:#333333\;"><span style="font-family:arial\,sans-serif\;"><span style="font-size:10.5pt\;"><span style="font-variant-ligatures:normal\;font-variant-caps:normal\;orphans:2\;text-align:start\;widows:2\;-webkit-text-stroke-width:0px\;text-decoration-thickness:initial\;text-decoration-style:initial\;word-spacing:0px\;">LUNCH: Please email with any dietary restrictions&nbsp\;</span></span></span></span></span><br style="font-variant-ligatures:normal\;font-variant-caps:normal\;orphans:2\;text-align:start\;widows:2\;-webkit-text-stroke-width:0px\;text-decoration-thickness:initial\;text-decoration-style:initial\;word-spacing:0px\;" />\n<span style="color:#333333\;"><span style="font-family:arial\,sans-serif\;"><span style="font-size:10.5pt\;"><span style="background:white\;"><span style="font-variant-ligatures:normal\;font-variant-caps:normal\;orphans:2\;text-align:start\;widows:2\;-webkit-text-stroke-width:0px\;text-decoration-thickness:initial\;text-decoration-style:initial\;word-spacing:0px\;">Questions? Email cameron</span></span></span></span></span><strong><u><span style="font-family:arial\,sans-serif\;"><span style="font-size:10.5pt\;"><span style="background:white\;"><span style="font-variant-ligatures:normal\;font-variant-caps:normal\;orphans:2\;text-align:start\;widows:2\;-webkit-text-stroke-width:0px\;text-decoration-thickness:initial\;text-decoration-style:initial\;word-spacing:0px\;"><a href="mailto:libertygrace@abilenechamber.com"><span style="color:#FF0000\;">@abilenechamber.com&nbsp\;</span></a></span></span></span></span></u></strong><br />\n&nbsp\;
LOCATION:Community Foundation of Abilene 850 N 1st St Abilene\, TX 79601
UID:e.3433.5607
SEQUENCE:3
DTSTAMP:20260421T150207Z
URL:https://business.abileneworks.com/events/details/06-19-25-abichat-luncheon-abilene-s-unhoused-insights-from-community-leaders-sponsored-by-goodwill-west-texas-5607
END:VEVENT

END:VCALENDAR
