BEGIN:VCALENDAR
VERSION:2.0
PRODID:-//ChamberMaster//Event Calendar 2.0//EN
METHOD:PUBLISH
X-PUBLISHED-TTL:P3D
REFRESH-INTERVAL:P3D
CALSCALE:GREGORIAN
BEGIN:VEVENT
DTSTART:20250515T220000Z
DTEND:20250515T233000Z
X-MICROSOFT-CDO-ALLDAYEVENT:FALSE
SUMMARY:05.15.25 Business After Hours Sponsored by Frontier Texas and Weatherl & Associates
DESCRIPTION:Join us for our monthly evening social business networking event\, sponsored by Frontier Texas and Weatherl & Associates! This event is open to our sponsor\, their employees and guests\, Chamber members and prospective members. Attendees can expect a short sponsor presentation\, food/beverages\, an update on Chamber activities\, door prizes\, and making plenty of new connections!\n\n\n\nPlease note: This event is being photographed and/or videotaped and your image may be used in connection with the advertising and promotion of the Abilene Chamber of Commerce.
X-ALT-DESC;FMTTYPE=text/html:<span style="font-family:arial\;"><span style="font-size: 14px\;">Join us for our monthly evening social business networking event</span></span><span style="font-family: arial\; font-size: 14px\;">\, sponsored by</span>&nbsp\;Frontier Texas and Weatherl &amp\; Associates<span style="font-family: arial\; font-size: 14px\;">!&nbsp\;</span><span style="font-family:arial\;"><span style="font-size: 14px\;">This event is open to our sponsor\, their employees and guests\, Chamber members and prospective members. Attendees can expect&nbsp\;a short sponsor presentation\, food/beverages\, an update on Chamber activities\, door prizes\, and making plenty of new connections!</span></span><br />\n<br />\n<span style="background-image: initial\; background-position: initial\; background-size: initial\; background-repeat: initial\; background-attachment: initial\; background-origin: initial\; background-clip: initial\;"><span style="font-family: arial\, sans-serif\;"><span style="font-size: 7pt\;">Please note: This event is being photographed and/or videotaped and your image may be used in connection with the advertising and promotion of the Abilene Chamber of Commerce.</span></span></span>
LOCATION:625 N 1st St\, Abilene\, TX 79601-6041
UID:e.3433.5419
SEQUENCE:3
DTSTAMP:20260421T182027Z
URL:https://business.abileneworks.com/events/details/05-15-25-business-after-hours-sponsored-by-frontier-texas-and-weatherl-associates-5419
END:VEVENT

END:VCALENDAR
